BEGIN:VCALENDAR
VERSION:2.0
PRODID:-//hacksw/handcal//NONSGML v1.0//EN
BEGIN:VEVENT
UID:noreply@gaycalgary.com
DTSTAMP:20090510T000000
DTSTART:20090510T110000
DTEND:20090510T110000
SUMMARY:Worship
DESCRIPTION:
LOCATION:
END:VEVENT
END:VCALENDAR