BEGIN:VCALENDAR
VERSION:2.0
PRODID:-//hacksw/handcal//NONSGML v1.0//EN
BEGIN:VEVENT
UID:noreply@gaycalgary.com
DTSTAMP:20090628T000000
DTSTART:20090628T090000
DTEND:20090628T090000
SUMMARY:Calgary Frontrunners
DESCRIPTION:Distance varies. 8km-15km. Runners from 6 minute/mile to 9+ minute miles. During the summer we attempt to have evening runs during the week.
LOCATION:Meet at Coffee Junkies
	7th Street and 1st Avenue SW
END:VEVENT
END:VCALENDAR