BEGIN:VCALENDAR
VERSION:2.0
PRODID:-//hacksw/handcal//NONSGML v1.0//EN
BEGIN:VEVENT
UID:noreply@gaycalgary.com
DTSTAMP:20090613T000000
X-FUNAMBOL-ALLDAY:true;
X-MICROSOFT-CDO-ALLDAYEVENT:true;
DTSTART;VALUE=DATE:20090613
DTEND;VALUE=DATE:20090614
SUMMARY:Lethbridge Pride Fest
DESCRIPTION:
LOCATION:
END:VEVENT
END:VCALENDAR