BEGIN:VCALENDAR
VERSION:2.0
PRODID:-//hacksw/handcal//NONSGML v1.0//EN
BEGIN:VEVENT
UID:noreply@gaycalgary.com
DTSTAMP:20090416T000000
DTSTART:20090416T083000
DTEND:20090416T163000
SUMMARY:Community Forum
DESCRIPTION:Lunch is provided.  Registration is free.  Please call (403) 508-2500 to register.
LOCATION:FCI Christian Life Centre
	219\, 19th Avenue SW
	Calgary
END:VEVENT
END:VCALENDAR