BEGIN:VCALENDAR
VERSION:2.0
PRODID:-//hacksw/handcal//NONSGML v1.0//EN
BEGIN:VEVENT
UID:noreply@gaycalgary.com
DTSTAMP:20090414T000000
X-FUNAMBOL-ALLDAY:true;
X-MICROSOFT-CDO-ALLDAYEVENT:true;
DTSTART;VALUE=DATE:20090414
DTEND;VALUE=DATE:20090415
SUMMARY:Sale
DESCRIPTION:Up to 40% off!  Everything on sale.  Leather\, rubber\, nasty pig\, inseam clothing\, slick it up\, toys\, fetish accessories.
LOCATION:Priape
	1322\, 17th Avenue SW
	Calgary
END:VEVENT
END:VCALENDAR