BEGIN:VCALENDAR
VERSION:2.0
PRODID:-//hacksw/handcal//NONSGML v1.0//EN
BEGIN:VEVENT
UID:noreply@gaycalgary.com
DTSTAMP:20090322T000000
DTSTART:20090322T210000
DTEND:20090322T210000
SUMMARY:Dirty Bird Awards
DESCRIPTION:
LOCATION:Calgary Eagle Inc. - Bar
	424a 8th Avenue SE
	Calgary
END:VEVENT
END:VCALENDAR