BEGIN:VCALENDAR
VERSION:2.0
PRODID:-//hacksw/handcal//NONSGML v1.0//EN
BEGIN:VEVENT
UID:noreply@gaycalgary.com
DTSTAMP:20090311T000000
X-FUNAMBOL-ALLDAY:true;
X-MICROSOFT-CDO-ALLDAYEVENT:true;
DTSTART;VALUE=DATE:20090311
DTEND;VALUE=DATE:20090312
SUMMARY:Wing Night
DESCRIPTION:Ladies night.
	
	Ribs & beer: $7.99.
LOCATION:MPs Eatery & Bar - Main Location
	1742 10 AVE S.W. 
	Calgary
END:VEVENT
END:VCALENDAR