BEGIN:VCALENDAR
VERSION:2.0
PRODID:-//hacksw/handcal//NONSGML v1.0//EN
BEGIN:VEVENT
UID:noreply@gaycalgary.com
DTSTAMP:20090711T000000
DTSTART:20090711T143000
DTEND:20090711T143000
SUMMARY:Monthly Meeting
DESCRIPTION:BBQ and/or Campout at Pine Trails
LOCATION:Unitarian Church
	10804 - 119th Street
END:VEVENT
END:VCALENDAR