BEGIN:VCALENDAR
VERSION:2.0
PRODID:-//hacksw/handcal//NONSGML v1.0//EN
BEGIN:VEVENT
UID:noreply@gaycalgary.com
DTSTAMP:20090307T000000
DTSTART:20090307T200000
DTEND:20090307T200000
SUMMARY:Gala Fundraiser
DESCRIPTION:$100 includes a $60 contribution to Camp
	fYreflyand a $60 Charitable Donation Receipt.
	Space is limited to the first 80 registrants.
LOCATION:deVine Wines & Spirits
	10111 - 104 Street
	Edmonton
END:VEVENT
END:VCALENDAR