BEGIN:VCALENDAR
VERSION:2.0
PRODID:-//hacksw/handcal//NONSGML v1.0//EN
BEGIN:VEVENT
UID:noreply@gaycalgary.com
DTSTAMP:20090817T000000
DTSTART:20090817T190000
DTEND:20090817T213000
SUMMARY:Meet and Greets
DESCRIPTION:More information: albetasocietyforkink@hotmail.com
LOCATION:Contact us for details.
END:VEVENT
END:VCALENDAR