BEGIN:VCALENDAR
VERSION:2.0
PRODID:-//hacksw/handcal//NONSGML v1.0//EN
BEGIN:VEVENT
UID:noreply@gaycalgary.com
DTSTAMP:20090402T000000
DTSTART:20090402T200000
DTEND:20090402T200000
SUMMARY:The Rocky Horror Show
DESCRIPTION:
LOCATION:Catalyst Theatre
	8529 Gateway Boulevard
	Edmonton
END:VEVENT
END:VCALENDAR