BEGIN:VCALENDAR
VERSION:2.0
PRODID:-//hacksw/handcal//NONSGML v1.0//EN
BEGIN:VEVENT
UID:noreply@gaycalgary.com
DTSTAMP:20090313T000000
DTSTART:20090313T180000
DTEND:20090313T230000
SUMMARY:BBQ
DESCRIPTION:It may be Friday the 13th but we are going to push our luck. We are hosting a BBQ at the Fireside Cafe and Games Night. The BBQ starts at 6:00PM till 8:00PM and then games night goes after till 11:00PM. The BBQ will be Hotdog\, Smokies or Burger Combo's for $5.00. There will be cocktails available for $3.00. We will also have games going like Trival Pursuit\, Pictionary and others then wrap up the night with Bingo hopefully with a little luck of the Irish. We will also be doing a 50/50 Draw through out the night for your chance to win and support The Rainbow Scholarship Fund at the same time.
	
	Phone:	7788789483
	Email:	dkthechef@shaw.ca
LOCATION:Fireside Cafe
	13593 King George Hwy
	Surrey\, BC
END:VEVENT
END:VCALENDAR