BEGIN:VCALENDAR
VERSION:2.0
PRODID:-//hacksw/handcal//NONSGML v1.0//EN
BEGIN:VEVENT
UID:noreply@gaycalgary.com
DTSTAMP:20090219T000000
DTSTART:20090219T200000
DTEND:20090219T200000
SUMMARY:The Invisible
DESCRIPTION:
LOCATION:608 - 1st Street SW
END:VEVENT
END:VCALENDAR