BEGIN:VCALENDAR
VERSION:2.0
PRODID:-//hacksw/handcal//NONSGML v1.0//EN
BEGIN:VEVENT
UID:noreply@gaycalgary.com
DTSTAMP:20090426T000000
DTSTART:20090426T173000
DTEND:20090426T200000
SUMMARY:Potluck Dinner
DESCRIPTION:Members/family/friends\, and children are all welcome to attend. Please bring dish that will serve 4-6 people and own beverage (no-alcohol). Plates\, utensils\, and coffee provided.
LOCATION:McKillop United Church
	2329 - 15 Ave S
END:VEVENT
END:VCALENDAR