BEGIN:VCALENDAR
VERSION:2.0
PRODID:-//hacksw/handcal//NONSGML v1.0//EN
BEGIN:VEVENT
UID:noreply@gaycalgary.com
DTSTAMP:20090409T000000
DTSTART:20090409T150000
DTEND:20090409T190000
SUMMARY:YouthSpace
DESCRIPTION:An after-school drop-in program for gay\, lesbian\, bisexual\, trans-identified\, queer\, questioning and allied (GLBTQQ&A) youth under 25.
	
	Open Tuesday to Friday 3:00pm-7:00pm and Saturday 2:00pm-7:00pm 
	
	Contact brendan@pridecentreofedmonton.org or (403) 488-3234 for more info.
LOCATION:Pride Centre of Edmonton
	95A Street and 111 Avenue
END:VEVENT
END:VCALENDAR