BEGIN:VCALENDAR
VERSION:2.0
PRODID:-//hacksw/handcal//NONSGML v1.0//EN
BEGIN:VEVENT
UID:noreply@gaycalgary.com
DTSTAMP:20090409T000000
DTSTART:20090409T130000
DTEND:20090409T160000
SUMMARY:GLBT Seniors Drop In
DESCRIPTION:Program serving our GLBT seniors.
LOCATION:Pride Centre of Edmonton
	95A Street and 111 Avenue
END:VEVENT
END:VCALENDAR