BEGIN:VCALENDAR
VERSION:2.0
PRODID:-//hacksw/handcal//NONSGML v1.0//EN
BEGIN:VEVENT
UID:noreply@gaycalgary.com
DTSTAMP:20090228T000000
DTSTART:20090228T110000
DTEND:20090228T010000
SUMMARY:Bottle Jive
DESCRIPTION:Bottle drive\, bar night and dance.
LOCATION:MPs Eatery & Bar - Main Location
	1742 10 AVE S.W. 
	Calgary
END:VEVENT
END:VCALENDAR