BEGIN:VCALENDAR
VERSION:2.0
PRODID:-//hacksw/handcal//NONSGML v1.0//EN
BEGIN:VEVENT
UID:noreply@gaycalgary.com
DTSTAMP:20090225T000000
DTSTART:20090225T183000
DTEND:20090225T203000
SUMMARY:Meeting
DESCRIPTION:Facilitators: Sean and Jeny
	
	Topic: Open discussion and support
	
	If you would like to come out and just listen please feel free to stop by.
	
LOCATION:Wild Rose United Church
	1317 - 1st street NW
	Calgary
END:VEVENT
END:VCALENDAR