BEGIN:VCALENDAR
VERSION:2.0
PRODID:-//hacksw/handcal//NONSGML v1.0//EN
BEGIN:VEVENT
UID:noreply@gaycalgary.com
DTSTAMP:20090329T000000
DTSTART:20090329T210000
DTEND:20090329T210000
SUMMARY:Special Fundraising Drag Show
DESCRIPTION:
LOCATION:Calgary Eagle Inc. - Main Location
	424a 8th Avenue S.E. 
	Calgary
END:VEVENT
END:VCALENDAR