BEGIN:VCALENDAR
VERSION:2.0
PRODID:-//hacksw/handcal//NONSGML v1.0//EN
BEGIN:VEVENT
UID:noreply@gaycalgary.com
DTSTAMP:20090404T000000
DTSTART:20090404T120000
DTEND:20090404T170000
SUMMARY:Kinky Flea Market
DESCRIPTION:Admission: $3
	
	Call (403) 398-9968 for more info.
LOCATION:Forest Heights Community Centre
	4909 Forego Ave SE
END:VEVENT
END:VCALENDAR