BEGIN:VCALENDAR
VERSION:2.0
PRODID:-//hacksw/handcal//NONSGML v1.0//EN
BEGIN:VEVENT
UID:noreply@gaycalgary.com
DTSTAMP:20091103T000000
DTSTART:20091103T190000
DTEND:20091103T213000
SUMMARY:Rehearsals
DESCRIPTION:We are a non-audition chorus\, you don't need previous singing experience and you don't need to know how to read music. We accept new members every September and January. And yes - you may observe or participate in a rehearsal or two before you make your decision about joining. Please visit our NEW web site for photos and more information: www.CalgaryMensChorus.org.
	
	Contact Ron for more information: 403-585-6519
LOCATION:Temple B'Nai Tikvah (formerly Living Spirit United Church)
	900 – 47 Avenue SW
	Calgary
	
END:VEVENT
END:VCALENDAR