BEGIN:VCALENDAR
VERSION:2.0
PRODID:-//hacksw/handcal//NONSGML v1.0//EN
BEGIN:VEVENT
UID:noreply@gaycalgary.com
DTSTAMP:20090526T000000
DTSTART:20090526T190000
DTEND:20090526T213000
SUMMARY:Rehearsals
DESCRIPTION:Do you like to sing? Come out and join the Calgary Men’s Chorus.
LOCATION:Old Y Centre
	223 12 Avenue SW
END:VEVENT
END:VCALENDAR