BEGIN:VCALENDAR
VERSION:2.0
PRODID:-//hacksw/handcal//NONSGML v1.0//EN
BEGIN:VEVENT
UID:noreply@gaycalgary.com
DTSTAMP:20090221T000000
X-FUNAMBOL-ALLDAY:true;
X-MICROSOFT-CDO-ALLDAYEVENT:true;
DTSTART;VALUE=DATE:20090221
DTEND;VALUE=DATE:20090222
SUMMARY:Anniversary Party
DESCRIPTION:
LOCATION:Calgary Eagle
	424a 8th Avenue SE
	Calgary
END:VEVENT
END:VCALENDAR