BEGIN:VCALENDAR
VERSION:2.0
PRODID:-//hacksw/handcal//NONSGML v1.0//EN
BEGIN:VEVENT
UID:noreply@gaycalgary.com
DTSTAMP:20090124T000000
DTSTART:20090124T220000
DTEND:20090124T220000
SUMMARY:Shooters at the Eagle
DESCRIPTION:
LOCATION:Calgary Eagle
	424a 8th Avenue S.E. 
	Calgary
END:VEVENT
END:VCALENDAR