BEGIN:VCALENDAR
VERSION:2.0
PRODID:-//hacksw/handcal//NONSGML v1.0//EN
BEGIN:VEVENT
UID:noreply@gaycalgary.com
DTSTAMP:20090703T000000
DTSTART:20090703T210000
DTEND:20090703T210000
SUMMARY:Mixer
DESCRIPTION:
LOCATION:The Mix (green water tower)
	Mayor Magrath Dr
END:VEVENT
END:VCALENDAR