BEGIN:VCALENDAR
VERSION:2.0
PRODID:-//hacksw/handcal//NONSGML v1.0//EN
BEGIN:VEVENT
UID:noreply@gaycalgary.com
DTSTAMP:20090518T000000
DTSTART:20090518T183000
DTEND:20090518T203000
SUMMARY:Roller Derby
DESCRIPTION:E-Ville Roller Derby is a community-wise sports initiative for adult females. Their purpose is for fun\, friendly sports competition among like-minded women. You need no prior experience in rollerderby. They’ll teach you everything you need to know\, including how to skate!
LOCATION:
END:VEVENT
END:VCALENDAR