BEGIN:VCALENDAR
VERSION:2.0
PRODID:-//hacksw/handcal//NONSGML v1.0//EN
BEGIN:VEVENT
UID:noreply@gaycalgary.com
DTSTAMP:20090324T000000
DTSTART:20090324T200000
DTEND:20090324T220000
SUMMARY:Gymnastics
DESCRIPTION:Have the whole gym to yourselves and an instructor
	to help you achieve your individual goals. Cost is
	$5.00 per session.
LOCATION:Ortona Gymnastics Club
	8755 - 50 Avenue
END:VEVENT
END:VCALENDAR