BEGIN:VCALENDAR
VERSION:2.0
PRODID:-//hacksw/handcal//NONSGML v1.0//EN
BEGIN:VEVENT
UID:noreply@gaycalgary.com
DTSTAMP:20090106T000000
DTSTART:20090106T200000
DTEND:20090106T220000
SUMMARY:Gymnastics
DESCRIPTION:
LOCATION:
END:VEVENT
END:VCALENDAR