BEGIN:VCALENDAR
VERSION:2.0
PRODID:-//hacksw/handcal//NONSGML v1.0//EN
BEGIN:VEVENT
UID:noreply@gaycalgary.com
DTSTAMP:20090409T000000
DTSTART:20090409T200000
DTEND:20090409T220000
SUMMARY:Free to Be Volleyball
DESCRIPTION:
LOCATION:Amiskiwaciy Academy
	101 Airport Road
END:VEVENT
END:VCALENDAR