BEGIN:VCALENDAR
VERSION:2.0
PRODID:-//hacksw/handcal//NONSGML v1.0//EN
BEGIN:VEVENT
UID:noreply@gaycalgary.com
DTSTAMP:20090421T000000
DTSTART:20090421T200000
DTEND:20090421T220000
SUMMARY:Free to Be Volleyball
DESCRIPTION:Drop-In $4.00\, Full Season $60.00 ($2.50/game)\, Half Season $35.00 ($2.91/game)
LOCATION:Mother Teresa School
	9008 - 105A Ave
END:VEVENT
END:VCALENDAR