BEGIN:VCALENDAR
VERSION:2.0
PRODID:-//hacksw/handcal//NONSGML v1.0//EN
BEGIN:VEVENT
UID:noreply@gaycalgary.com
DTSTAMP:20090210T000000
DTSTART:20090210T200000
DTEND:20090210T210000
SUMMARY:Making Waves
DESCRIPTION:
LOCATION:NAIT Swimming Pool
END:VEVENT
END:VCALENDAR