BEGIN:VCALENDAR
VERSION:2.0
PRODID:-//hacksw/handcal//NONSGML v1.0//EN
BEGIN:VEVENT
UID:noreply@gaycalgary.com
DTSTAMP:20090429T000000
DTSTART:20090429T183000
DTEND:20090429T183000
SUMMARY:Cycling
DESCRIPTION:
LOCATION:Various Locations
END:VEVENT
END:VCALENDAR