BEGIN:VCALENDAR
VERSION:2.0
PRODID:-//hacksw/handcal//NONSGML v1.0//EN
BEGIN:VEVENT
UID:noreply@gaycalgary.com
DTSTAMP:20090802T000000
DTSTART:20090802T190000
DTEND:20090802T190000
SUMMARY:Men Talking with Pride
DESCRIPTION:Men's social and discussion group.
LOCATION:Pride Centre of Edmonton
	95A Street and 111th Avenue
END:VEVENT
END:VCALENDAR