BEGIN:VCALENDAR
VERSION:2.0
PRODID:-//hacksw/handcal//NONSGML v1.0//EN
BEGIN:VEVENT
UID:noreply@gaycalgary.com
DTSTAMP:20091004T000000
DTSTART:20091004T140000
DTEND:20091004T160000
SUMMARY:TTIQ
DESCRIPTION:TTIQ is mixed gender open support group addressing the needs of transsexual and transgenedered individuals.  Brunch at a local restaurant on the last Sunday of every month.
LOCATION:Pride Centre of Edmonton - Green Room (upstairs)
	9540 - 111 Avenue
	Edmonton
END:VEVENT
END:VCALENDAR