BEGIN:VCALENDAR
VERSION:2.0
PRODID:-//hacksw/handcal//NONSGML v1.0//EN
BEGIN:VEVENT
UID:noreply@gaycalgary.com
DTSTAMP:20090407T000000
DTSTART:20090407T190000
DTEND:20090407T190000
SUMMARY:Coffee Night
DESCRIPTION:
LOCATION:2nd Cup
	Kensington
END:VEVENT
END:VCALENDAR