BEGIN:VCALENDAR
VERSION:2.0
PRODID:-//hacksw/handcal//NONSGML v1.0//EN
BEGIN:VEVENT
UID:noreply@gaycalgary.com
DTSTAMP:20090806T000000
DTSTART:20090806T193000
DTEND:20090806T193000
SUMMARY:Fake Mustache
DESCRIPTION:Youth drag king show presented by Miscellaneous Youth Network.
	
	All ages show: Doors at 7:00\, show at 7:30
	18+ show: begins 9:00pm
	
	$5 cover for anyone over eighteen\, $2 cover for anyone under eighteen
	Free entry for the first ten people in drag!
LOCATION:Soda Lounge
	211 – 12th Avenue SW
END:VEVENT
END:VCALENDAR