BEGIN:VCALENDAR
VERSION:2.0
PRODID:-//hacksw/handcal//NONSGML v1.0//EN
BEGIN:VEVENT
UID:noreply@gaycalgary.com
DTSTAMP:20090507T000000
DTSTART:20090507T193000
DTEND:20090507T193000
SUMMARY:Fake Mustache
DESCRIPTION:Youth drag king show presented by Miscellaneous Youth Network.
	
	All ages show: 7:30
	18+ show: 10:15
	
	$2 cover for youth.
	$5 cover for adults.
	Be one of the first ten people to arrive in drag and get in free!
LOCATION:Soda Lounge
	211 – 12th Avenue SW
END:VEVENT
END:VCALENDAR