BEGIN:VCALENDAR
VERSION:2.0
PRODID:-//hacksw/handcal//NONSGML v1.0//EN
BEGIN:VEVENT
UID:noreply@gaycalgary.com
DTSTAMP:20090713T000000
DTSTART:20090713T190000
DTEND:20090713T210000
SUMMARY:Inside Out Youth Group
DESCRIPTION:A peer-facilitated youth group for GLBTQ under 25. The group aims to let youth know they are not alone\, and to connect them with their peers.  It is a funky and safe environment with a variety of resources and activities.
LOCATION:Calgary Outlink
	#4\, 1230A 17th Avenue SW
END:VEVENT
END:VCALENDAR