BEGIN:VCALENDAR
VERSION:2.0
PRODID:-//hacksw/handcal//NONSGML v1.0//EN
BEGIN:VEVENT
UID:noreply@gaycalgary.com
DTSTAMP:20090804T000000
DTSTART:20090804T190000
DTEND:20090804T210000
SUMMARY:Between Men
DESCRIPTION:Peer suport\, sexual health education for gay or bisexual men\, as well as those who may be uncertain or questioning their sexuality.  Discussions range from personal relationship or life issues\, to sexual health and well-being.
LOCATION:Calgary Outlink
	#4\, 1230A 17th Avenue SW
END:VEVENT
END:VCALENDAR