BEGIN:VCALENDAR
VERSION:2.0
PRODID:-//hacksw/handcal//NONSGML v1.0//EN
BEGIN:VEVENT
UID:noreply@gaycalgary.com
DTSTAMP:20090222T000000
DTSTART:20090222T140000
DTEND:20090222T140000
SUMMARY:Yoga
DESCRIPTION:
LOCATION:Korezone Fitness
	#203\, 10575 115 Street
	Edmonton
END:VEVENT
END:VCALENDAR