BEGIN:VCALENDAR
VERSION:2.0
PRODID:-//hacksw/handcal//NONSGML v1.0//EN
BEGIN:VEVENT
UID:noreply@gaycalgary.com
DTSTAMP:20090410T000000
DTSTART:20090410T080000
DTEND:20090410T170000
SUMMARY:InnerCity Volleyball
DESCRIPTION:This is our annual tournament. For more info and to register a team\, please go to our website www.westerncup.com.
	
	Our annual volleyball tournament\, organized as part of a multi-sport Western Cup\, is open to all skill levels.
	
	On Friday\, April 10\, we play preliminary rounds. On Saturday\, April 11\, we hold the elimination round\, followed by an Awards Ceremony
	
	Register at www.westerncup.com or come by as a spectator.
	
	For more info contact Kitt at vb@apollocalgary.com or 403 263-2112.
LOCATION:Volleydome
	2825\, 24 Avenue NW
	Calgary\, T2N 4L6
	(Across from the University of Calgary)
END:VEVENT
END:VCALENDAR