BEGIN:VCALENDAR
VERSION:2.0
PRODID:-//hacksw/handcal//NONSGML v1.0//EN
BEGIN:VEVENT
UID:noreply@gaycalgary.com
DTSTAMP:20090315T000000
DTSTART:20090315T161500
DTEND:20090315T183000
SUMMARY:InnerCity Volleyball
DESCRIPTION:Join us weekly from 4:15pm – 6:30pm.
	
	This is for experienced players. You can sign up for the season or drop-in. For more info\, go to our website at www.apollocalgary.com/apollo/volleyball
LOCATION:YWCA
	320\, 5th Avenue SE
	Calgary
END:VEVENT
END:VCALENDAR