BEGIN:VCALENDAR
VERSION:2.0
PRODID:-//hacksw/handcal//NONSGML v1.0//EN
BEGIN:VEVENT
UID:noreply@gaycalgary.com
DTSTAMP:20090418T000000
DTSTART:20090418T180000
DTEND:20090418T180000
SUMMARY:Coronation
DESCRIPTION:The ISCCA and HMISM Emperor 32 Michael Myte and HMISM Elected Empress 32 Nina Tron present:
	
	Coronation 33: Absolutely Flawless
	
	Tickets: $35 in advance\, $40 at the door.
LOCATION:The Westin Hotel
	Grand Ball Room
END:VEVENT
END:VCALENDAR