BEGIN:VCALENDAR
VERSION:2.0
PRODID:-//hacksw/handcal//NONSGML v1.0//EN
BEGIN:VEVENT
UID:noreply@gaycalgary.com
DTSTAMP:20090211T000000
DTSTART:20090211T180000
DTEND:20090211T193000
SUMMARY:Badminton
DESCRIPTION:For more information contact:  badminton@teamedmonton.ca
LOCATION:Oliver School
	10227 - 118 Street
END:VEVENT
END:VCALENDAR