BEGIN:VCALENDAR
VERSION:2.0
PRODID:-//hacksw/handcal//NONSGML v1.0//EN
BEGIN:VEVENT
UID:noreply@gaycalgary.com
DTSTAMP:20081207T000000
DTSTART:20081207T180000
DTEND:20081207T200000
SUMMARY:All You Can Eat Perogy Dinner
DESCRIPTION:All you can eat spaghetti dinner for $10.00/person
LOCATION:Boots Bar and Lounge - Main Location
	10242 106th Street 
	Edmonton
END:VEVENT
END:VCALENDAR