BEGIN:VCALENDAR
VERSION:2.0
PRODID:-//hacksw/handcal//NONSGML v1.0//EN
BEGIN:VEVENT
UID:noreply@gaycalgary.com
DTSTAMP:20090505T000000
DTSTART:20090505T194500
DTEND:20090505T211500
SUMMARY:Yoga
DESCRIPTION:Have you always wondered about yoga?  What really is down-dog? Do you think touching your feet with your legs straight is just humanly impossible? For the second year\, Ki Essentials is offering an exclusive yoga class to Apollo members and friends. This class comprises of weekly 90-minute sessions that focus on basic poses and proper alignment\, and are conducted in a fun and supportive environment. This is a multi-level yetbeginner friendly class. No previous experience is required. Registration fee: $126.00 (for all sessions plus two free passes to Ki Essentials)\, Apollo membership is required. Mat rental: $1.00.
	
	Please note no classes Victoria Day. Drop-ins for this class are offered on a firstcome-first-serve basis. Space is limited so please check ahead of time. Cost for drop-in is $15 for Apollo members.
LOCATION:-
END:VEVENT
END:VCALENDAR