BEGIN:VCALENDAR
VERSION:2.0
PRODID:-//hacksw/handcal//NONSGML v1.0//EN
BEGIN:VEVENT
UID:noreply@gaycalgary.com
DTSTAMP:20090314T000000
DTSTART:20090314T090000
DTEND:20090314T090000
SUMMARY:Calgary Frontrunners
DESCRIPTION:Walkers and Runners between 5km - 15km from sub 5 min/km pace to 10 min/km pace.
	
	All are welcome.  Typically about 15-20 men and women depending on the weather conditions.
LOCATION:Coffee Junkies
	795 1st Avenue SW
END:VEVENT
END:VCALENDAR