BEGIN:VCALENDAR
VERSION:2.0
PRODID:-//hacksw/handcal//NONSGML v1.0//EN
BEGIN:VEVENT
UID:noreply@gaycalgary.com
DTSTAMP:20081025T000000
DTSTART:20081025T200000
DTEND:20081025T200000
SUMMARY:Halloween Dance
DESCRIPTION:Cost is $10 dollars and yes it would be most excellent to have some assistance & volunteers.
	 
	And yes for sure\, all of you trapped in the big cities wanting a break\, come on down\, lots of hotels near the hall for you to have a one night get away at oooooooooo000000000 scarey stuff!
	
	Have problems or questions contact Sheila or Leon at our toll free line 1-877-429-9272 or email us: wcpc@telus.net
	
	We will be setting up the hall at noon on Saturday\, stop on by if you like...
LOCATION:Kinsmen Community Centre
	4726-34st South
	Red Deer
END:VEVENT
END:VCALENDAR