BEGIN:VCALENDAR
VERSION:2.0
PRODID:-//hacksw/handcal//NONSGML v1.0//EN
BEGIN:VEVENT
UID:noreply@gaycalgary.com
DTSTAMP:20080902T000000
DTSTART:20080902T190000
DTEND:20080902T213000
SUMMARY:Rehearsals
DESCRIPTION:
LOCATION:
END:VEVENT
END:VCALENDAR