BEGIN:VCALENDAR
VERSION:2.0
PRODID:-//hacksw/handcal//NONSGML v1.0//EN
BEGIN:VEVENT
UID:noreply@gaycalgary.com
DTSTAMP:20090531T000000
DTSTART:20090531T193000
DTEND:20090531T203000
SUMMARY:Ballroom Dancing
DESCRIPTION:The Beginner Ballroom program is designed for people who have no previous dance instruction and have the desire to gain confidence on the social dance floor.
	 
	The Beginner program focuses on the four most common social dances\, Waltz\, Jive\, Foxtrot and Rumba. If you can do these four dances\, you can dance the night away at most social events! You will learn how to do the basic steps and two to three patterns in each dance. You will learn to recognize when to use these dances\, and you will learn basic technique\, like frame and posture.
	
	*Students may take level 2 upon completion of the beginner course.
	*All gender combinations of dancers are welcome.
	*Partners are not required
	 
	$149.00 +GST /10weeks 
	To register call - (780)469-3281
	
LOCATION:Foot Notes Dance Studio
	9708-45 Avenue NW
END:VEVENT
END:VCALENDAR